BEGIN:VCALENDAR
VERSION:2.0
PRODID:-//Frankfort Brass Band - ECPv4.9.12//NONSGML v1.0//EN
CALSCALE:GREGORIAN
METHOD:PUBLISH
X-WR-CALNAME:Frankfort Brass Band
X-ORIGINAL-URL:https://frankfortbrassband.com
X-WR-CALDESC:Events for Frankfort Brass Band
BEGIN:VTIMEZONE
TZID:UTC
BEGIN:STANDARD
TZOFFSETFROM:+0000
TZOFFSETTO:+0000
TZNAME:UTC
DTSTART:20260101T000000
END:STANDARD
END:VTIMEZONE
BEGIN:VEVENT
DTSTART;TZID=UTC:20260725T120000
DTEND;TZID=UTC:20260725T130000
DTSTAMP:20260421T085012
CREATED:20260218T020452Z
LAST-MODIFIED:20260218T020452Z
UID:702-1784980800-1784984400@frankfortbrassband.com
SUMMARY:Peotone Car Show
DESCRIPTION:It’s been a few years since we did this one. Glad to be back. \n
URL:https://frankfortbrassband.com/event/peotone-car-show/
END:VEVENT
END:VCALENDAR